BEGIN:VCALENDAR
VERSION:2.0
PRODID:-//Greenlawn Centerport Historical Association//NONSGML kigkonsult.s
 e iCalcreator 2.30.10//
CALSCALE:GREGORIAN
METHOD:PUBLISH
UID:b548d61b-73b5-4a25-88e8-256bb588a4f6
X-WR-CALNAME:iCagenda
X-WR-CALDESC:Event Management Extension for Joomla!
X-WR-RELCALID:3E26604A-50F4-4449-8B3E-E4F4932D05B5
X-WR-TIMEZONE:UTC
BEGIN:VTIMEZONE
TZID:UTC
END:VTIMEZONE
BEGIN:VEVENT
UID:1a3ebc5a-60f7-438f-ac74-7eb1b711a55e
DTSTAMP:20260421T161016Z
CATEGORIES:Events
CLASS:PUBLIC
DESCRIPTION;ALTREP="CID:<FFFF__=0ABBE548DFE235B58f9e8a93d@coffeebean.com>":
 Please join the Harborfields Public Library on Wednesday\, July 15th\, 202
 6 as we take a boat tour of Connecticut's famous Thimble Islands.\nThe lib
 rary will also visit the Shore Line Trolley Museum where they will tour th
 e museum and have a vintage trolley ride. Lunch is included at The Docksid
 e Seafood Grill.\nMenus choices include:\n-Fried Ipswich Clam Strips\n-Bro
 iled Chicken\n-Broiled Scrod\, Salmon\, or Sole\n-Penne A La Vodka\n-Fish 
 n Chips.\nCost is $199.00 per person and in non-refundable unless your spo
 t can be filled by someone on the waitlist. Payment can be made online by 
 credit or debit card\, or in-person by cash\, check or card.\nFor more inf
 ormation please contact:\nBrian Adams at 631-757-4200 ext 120 or at bradam
 s@harborfieldslibrary.org.
DTSTART:20260715T064500Z
DTEND:20260715T064500Z
GEO:+40.871197;-73.366837
LOCATION:Harborfields Public Library
ORGANIZER;CN=:bradams@harborfieldslibrary.org
SEQUENCE:1
SUMMARY:Harborfields Public Library - Thimble Islands Cruise
TRANSP:OPAQUE
URL:https://www.greenlawncenterporthistorical.org/index.php/events/33-harbo
 rfields-public-library-thimble-islands-cruise/2026-07-15-06-45
END:VEVENT
END:VCALENDAR
