BEGIN:VCALENDAR
VERSION:2.0
PRODID:-//Greenlawn Centerport Historical Association//NONSGML kigkonsult.s
 e iCalcreator 2.30.10//
CALSCALE:GREGORIAN
METHOD:PUBLISH
UID:524d7d41-15e0-418f-8aae-024639edbbac
X-WR-CALNAME:iCagenda
X-WR-CALDESC:Event Management Extension for Joomla!
X-WR-RELCALID:3E26604A-50F4-4449-8B3E-E4F4932D05B5
X-WR-TIMEZONE:UTC
BEGIN:VTIMEZONE
TZID:UTC
END:VTIMEZONE
BEGIN:VEVENT
UID:342cde66-cb97-470b-b4e5-b76ffa9a864f
DTSTAMP:20260425T132928Z
CATEGORIES:Events
CLASS:PUBLIC
DESCRIPTION;ALTREP="CID:<FFFF__=0ABBE548DFE235B58f9e8a93d@coffeebean.com>":
 National Historic Marker Weekend 2026 takes place\nFriday\, April 24 throu
 gh Sunday\, April 26!\n'This free\, family-friendly volunteer event invite
 s neighbors\, friends\, and families nationwide to clean and care for hist
 orical markers in their communities. With this year’s theme\, “Your Hometo
 wn\,” it’s a fun way to learn local history\, give back\, and spend time w
 ith the people around you. What makes your hometown history unique?\nHisto
 rical markers can be found everywhere\, along roadsides\, in parks\, downt
 own streets\, and at historic sites. According to The Historical Marker Da
 tabase\, there are more than 227\,000 markers across the United States\, m
 any of which have not been cleaned or maintained in years. National Histor
 ic Marker Weekend helps communities come together to preserve these local 
 landmarks and make history shine again.'\nPhoto Challenge\nHave fun and pa
 rticipate in our Photo Challenge! Take lots of photos during your marker c
 leaning project and post them on social media with the hashtags #NationalH
 istoricMarkerWeekend and #PomeroyFoundation. Be sure to tag or mention the
  William G. Pomeroy Foundation and Greenlawn-Centerport Historical Associa
 tion!\nThis year’s theme is “Your Hometown.” Capture your community’s uniq
 ue stories and share photos of the markers that make your hometown history
  special. 
DTSTART:20260424T100000Z
DTEND:20260426T150000Z
GEO:00;0
LOCATION:
ORGANIZER;CN=:info@greenlawncenterporthistorical.org
SEQUENCE:1
SUMMARY:National Historic Marker Weekend - Pomeroy Foundation
TRANSP:OPAQUE
URL:https://www.greenlawncenterporthistorical.org/index.php/component/icage
 nda/30-national-historic-marker-weekend-pomeroy-foundation?Itemid=101
END:VEVENT
END:VCALENDAR
